BEGIN:VCALENDAR
VERSION:2.0
PRODID:-//Tukios.com/
BEGIN:VEVENT
UID:fc8e27e3-84e9-4395-b6d3-840aa0b3561a@www.sv-fh.com
DTSTAMP:20260423T031059Z
DTSTART:20260516T150000Z
DTEND:20260516T160000Z
SUMMARY:Visitation
DESCRIPTION:
URL:https://www.sv-fh.com/obituaries/john-lemke
LOCATION:Schmutzler-Vick Funeral Home 500 Welsh Rd  Watertown WI 53098
GEO:43.20046;-88.7598537
END:VEVENT
END:VCALENDAR