BEGIN:VCALENDAR
VERSION:2.0
PRODID:-//Tukios.com/
BEGIN:VEVENT
UID:09940635-90f9-4a6b-ab6f-41bd4f327b9b@www.sv-fh.com
DTSTAMP:20260423T031514Z
DTSTART:20260516T180000Z
DTEND:20260516T190000Z
SUMMARY:Memorial Service
DESCRIPTION:
URL:https://www.sv-fh.com/obituaries/john-lemke
LOCATION: 500 Welsh Rd  Watertown WI 53098
GEO:43.20046;-88.7598537
END:VEVENT
END:VCALENDAR